BEGIN:VCALENDAR
VERSION:2.0
PRODID:-//SAFGA - ECPv6.15.20//NONSGML v1.0//EN
CALSCALE:GREGORIAN
METHOD:PUBLISH
X-ORIGINAL-URL:https://safga.org.au
X-WR-CALDESC:Events for SAFGA
REFRESH-INTERVAL;VALUE=DURATION:PT1H
X-Robots-Tag:noindex
X-PUBLISHED-TTL:PT1H
BEGIN:VTIMEZONE
TZID:Australia/Adelaide
BEGIN:STANDARD
TZOFFSETFROM:+1030
TZOFFSETTO:+0930
TZNAME:ACST
DTSTART:20240406T163000
END:STANDARD
BEGIN:DAYLIGHT
TZOFFSETFROM:+0930
TZOFFSETTO:+1030
TZNAME:ACDT
DTSTART:20241005T163000
END:DAYLIGHT
BEGIN:STANDARD
TZOFFSETFROM:+1030
TZOFFSETTO:+0930
TZNAME:ACST
DTSTART:20250405T163000
END:STANDARD
BEGIN:DAYLIGHT
TZOFFSETFROM:+0930
TZOFFSETTO:+1030
TZNAME:ACDT
DTSTART:20251004T163000
END:DAYLIGHT
BEGIN:STANDARD
TZOFFSETFROM:+1030
TZOFFSETTO:+0930
TZNAME:ACST
DTSTART:20260404T163000
END:STANDARD
BEGIN:DAYLIGHT
TZOFFSETFROM:+0930
TZOFFSETTO:+1030
TZNAME:ACDT
DTSTART:20261003T163000
END:DAYLIGHT
END:VTIMEZONE
BEGIN:VTIMEZONE
TZID:Pacific/Auckland
BEGIN:STANDARD
TZOFFSETFROM:+1300
TZOFFSETTO:+1200
TZNAME:NZST
DTSTART:20240406T140000
END:STANDARD
BEGIN:DAYLIGHT
TZOFFSETFROM:+1200
TZOFFSETTO:+1300
TZNAME:NZDT
DTSTART:20240928T140000
END:DAYLIGHT
BEGIN:STANDARD
TZOFFSETFROM:+1300
TZOFFSETTO:+1200
TZNAME:NZST
DTSTART:20250405T140000
END:STANDARD
BEGIN:DAYLIGHT
TZOFFSETFROM:+1200
TZOFFSETTO:+1300
TZNAME:NZDT
DTSTART:20250927T140000
END:DAYLIGHT
BEGIN:STANDARD
TZOFFSETFROM:+1300
TZOFFSETTO:+1200
TZNAME:NZST
DTSTART:20260404T140000
END:STANDARD
BEGIN:DAYLIGHT
TZOFFSETFROM:+1200
TZOFFSETTO:+1300
TZNAME:NZDT
DTSTART:20260926T140000
END:DAYLIGHT
END:VTIMEZONE
BEGIN:VEVENT
DTSTART;VALUE=DATE:20250724
DTEND;VALUE=DATE:20250728
DTSTAMP:20260422T101923
CREATED:20250130T132050Z
LAST-MODIFIED:20250130T132050Z
UID:7295-1753315200-1753660799@safga.org.au
SUMMARY:CYPRUS - 24th - 27th 2025
DESCRIPTION:47th WORLD FITASC SPORTING CHAMPIONSHIPS
URL:https://safga.org.au/event/cyprus-24th-27th-2025/
CATEGORIES:FITASC
END:VEVENT
BEGIN:VEVENT
DTSTART;VALUE=DATE:20250328
DTEND;VALUE=DATE:20250331
DTSTAMP:20260422T101923
CREATED:20250110T114635Z
LAST-MODIFIED:20250130T130818Z
UID:7227-1743120000-1743379199@safga.org.au
SUMMARY:2025 FITASC Oceania - ROTORUA
DESCRIPTION:
URL:https://safga.org.au/event/2025-fitasc-oceania/
CATEGORIES:FITASC
ATTACH;FMTTYPE=image/png:https://safga.org.au/wp-content/uploads/2025/01/SCA.png
END:VEVENT
BEGIN:VEVENT
DTSTART;TZID=Australia/Adelaide:20250308T080000
DTEND;TZID=Australia/Adelaide:20250310T170000
DTSTAMP:20260422T101923
CREATED:20250110T114331Z
LAST-MODIFIED:20250110T114716Z
UID:7225-1741420800-1741626000@safga.org.au
SUMMARY:2025 Australian FITASC Grand Prix @ RGSC
DESCRIPTION:Sponsored by
URL:https://safga.org.au/event/2025-australian-fitasc-grand-prix-rgsc/
LOCATION:Rocky Gully\, 3749 Old Princess Hwy.\, Monarto\, SA\, 5254\, Australia
CATEGORIES:FITASC,SCA Event
ATTACH;FMTTYPE=image/png:https://safga.org.au/wp-content/uploads/2025/01/SCA.png
END:VEVENT
END:VCALENDAR