BEGIN:VCALENDAR
VERSION:2.0
PRODID:-//SAFGA - ECPv6.15.20//NONSGML v1.0//EN
CALSCALE:GREGORIAN
METHOD:PUBLISH
X-WR-CALNAME:SAFGA
X-ORIGINAL-URL:https://safga.org.au
X-WR-CALDESC:Events for SAFGA
REFRESH-INTERVAL;VALUE=DURATION:PT1H
X-Robots-Tag:noindex
X-PUBLISHED-TTL:PT1H
BEGIN:VTIMEZONE
TZID:Australia/Adelaide
BEGIN:STANDARD
TZOFFSETFROM:+1030
TZOFFSETTO:+0930
TZNAME:ACST
DTSTART:20240406T163000
END:STANDARD
BEGIN:DAYLIGHT
TZOFFSETFROM:+0930
TZOFFSETTO:+1030
TZNAME:ACDT
DTSTART:20241005T163000
END:DAYLIGHT
BEGIN:STANDARD
TZOFFSETFROM:+1030
TZOFFSETTO:+0930
TZNAME:ACST
DTSTART:20250405T163000
END:STANDARD
BEGIN:DAYLIGHT
TZOFFSETFROM:+0930
TZOFFSETTO:+1030
TZNAME:ACDT
DTSTART:20251004T163000
END:DAYLIGHT
BEGIN:STANDARD
TZOFFSETFROM:+1030
TZOFFSETTO:+0930
TZNAME:ACST
DTSTART:20260404T163000
END:STANDARD
BEGIN:DAYLIGHT
TZOFFSETFROM:+0930
TZOFFSETTO:+1030
TZNAME:ACDT
DTSTART:20261003T163000
END:DAYLIGHT
END:VTIMEZONE
BEGIN:VEVENT
DTSTART;TZID=Australia/Adelaide:20251008T080000
DTEND;TZID=Australia/Adelaide:20251011T170000
DTSTAMP:20260421T223454
CREATED:20250110T115053Z
LAST-MODIFIED:20250130T133158Z
UID:7233-1759910400-1760202000@safga.org.au
SUMMARY:2025 SCA Sporting Nationals - BRISBANE
DESCRIPTION:2025 SCA SPORTING NATIONALS
URL:https://safga.org.au/event/sca-sporting-nationals-2/
LOCATION:Brisbane Sporting Clays\, 296 Mount Petrie Rd\, Belmont\, QLD\, 4153\, Australia
CATEGORIES:SCA Event
ATTACH;FMTTYPE=image/png:https://safga.org.au/wp-content/uploads/2025/01/SCA.png
END:VEVENT
END:VCALENDAR